BEGIN:VCALENDAR
VERSION:2.0
PRODID:-//Center on South Asian Studies - ECPv6.15.17//NONSGML v1.0//EN
CALSCALE:GREGORIAN
METHOD:PUBLISH
X-WR-CALNAME:Center on South Asian Studies
X-ORIGINAL-URL:https://centersas.org
X-WR-CALDESC:Events for Center on South Asian Studies
REFRESH-INTERVAL;VALUE=DURATION:PT1H
X-Robots-Tag:noindex
X-PUBLISHED-TTL:PT1H
BEGIN:VTIMEZONE
TZID:America/Chicago
BEGIN:DAYLIGHT
TZOFFSETFROM:-0600
TZOFFSETTO:-0500
TZNAME:CDT
DTSTART:20250309T080000
END:DAYLIGHT
BEGIN:STANDARD
TZOFFSETFROM:-0500
TZOFFSETTO:-0600
TZNAME:CST
DTSTART:20251102T070000
END:STANDARD
BEGIN:DAYLIGHT
TZOFFSETFROM:-0600
TZOFFSETTO:-0500
TZNAME:CDT
DTSTART:20260308T080000
END:DAYLIGHT
BEGIN:STANDARD
TZOFFSETFROM:-0500
TZOFFSETTO:-0600
TZNAME:CST
DTSTART:20261101T070000
END:STANDARD
BEGIN:DAYLIGHT
TZOFFSETFROM:-0600
TZOFFSETTO:-0500
TZNAME:CDT
DTSTART:20270314T080000
END:DAYLIGHT
BEGIN:STANDARD
TZOFFSETFROM:-0500
TZOFFSETTO:-0600
TZNAME:CST
DTSTART:20271107T070000
END:STANDARD
END:VTIMEZONE
BEGIN:VEVENT
DTSTART;TZID=America/Chicago:20260502T180000
DTEND;TZID=America/Chicago:20260502T210000
DTSTAMP:20260421T053529
CREATED:20260412T175508Z
LAST-MODIFIED:20260412T175508Z
UID:3506-1777744800-1777755600@centersas.org
SUMMARY:Celebrating the launch of Center for the Study of Islam in India (CSII)
DESCRIPTION:Join us for a special evening celebrating the launch of the Center for the Study of Islam in India (CSII) at the American Islamic College in Chicago. This inaugural gathering brings together scholars\, community members\, and students to explore the rich intellectual\, theological\, and scientific traditions of Islam in the Indian subcontinent. \nThe program will open with welcoming remarks by Dr. Timothy Gianotti\, President of the American Islamic College\, followed by a keynote presentation and a shared dinner with guests. \nThis launch marks an important step in advancing research\, dialogue\, and scholarship on Islam in South Asia through the newly established Center for the Study of Islam in India at AIC. \nGuests will enjoy an evening of scholarship\, reflection\, and community in celebration of this new academic initiative.
URL:https://centersas.org/event/celebrating-the-launch-of-center-for-the-study-of-islam-in-india-csii/
LOCATION:ambiance banquet\, Ambiance Banquets\, 222 Roosevelt Road Villa Park\, IL 60181\, Illinois\, 60181\, United States
ATTACH;FMTTYPE=image/jpeg:https://centersas.org/wp-content/uploads/2026/04/WhatsApp-Image-2026-04-09-at-9.03.41-AM.jpeg
ORGANIZER;CN="Center on South Asian Studies":MAILTO:admin@centersas.org
END:VEVENT
END:VCALENDAR